BEGIN:VCALENDAR
VERSION:2.0
PRODID:-//Triathlon Saskatchewan - ECPv6.1.3//NONSGML v1.0//EN
CALSCALE:GREGORIAN
METHOD:PUBLISH
X-WR-CALNAME:Triathlon Saskatchewan
X-ORIGINAL-URL:https://www.trisask.org
X-WR-CALDESC:Events for Triathlon Saskatchewan
REFRESH-INTERVAL;VALUE=DURATION:PT1H
X-Robots-Tag:noindex
X-PUBLISHED-TTL:PT1H
BEGIN:VTIMEZONE
TZID:America/Regina
BEGIN:STANDARD
TZOFFSETFROM:-0600
TZOFFSETTO:-0600
TZNAME:CST
DTSTART:20230101T000000
END:STANDARD
END:VTIMEZONE
BEGIN:VEVENT
DTSTART;TZID=America/Regina:20230625T080000
DTEND;TZID=America/Regina:20230707T170000
DTSTAMP:20260422T010351
CREATED:20230213T153139Z
LAST-MODIFIED:20230305T172455Z
UID:8572-1687680000-1688749200@www.trisask.org
SUMMARY:Montreal Camp 1 and 2
DESCRIPTION:
URL:https://www.trisask.org/event/montreal-camp-1-and-2/
LOCATION:Pike Lake\, Saskatchewan\, Canada
CATEGORIES:Elite Level,High Performance
END:VEVENT
END:VCALENDAR