BEGIN:VCALENDAR
VERSION:2.0
PRODID:-//Triathlon Saskatchewan - ECPv6.1.3//NONSGML v1.0//EN
CALSCALE:GREGORIAN
METHOD:PUBLISH
X-WR-CALNAME:Triathlon Saskatchewan
X-ORIGINAL-URL:https://www.trisask.org
X-WR-CALDESC:Events for Triathlon Saskatchewan
REFRESH-INTERVAL;VALUE=DURATION:PT1H
X-Robots-Tag:noindex
X-PUBLISHED-TTL:PT1H
BEGIN:VTIMEZONE
TZID:America/Regina
BEGIN:STANDARD
TZOFFSETFROM:-0600
TZOFFSETTO:-0600
TZNAME:CST
DTSTART:20230101T000000
END:STANDARD
END:VTIMEZONE
BEGIN:VEVENT
DTSTART;VALUE=DATE:20230813
DTEND;VALUE=DATE:20230814
DTSTAMP:20260422T083351
CREATED:20230213T152648Z
LAST-MODIFIED:20230820T004826Z
UID:8582-1691884800-1691971199@www.trisask.org
SUMMARY:Frank Dunn Triathlon Waskesiu
DESCRIPTION:2023 Frank Dunn Results  \n2023 Frank Dunn Triathlon Age Group Results copy \n2023 Frank Dunn Triathlon Overall Individual Results copy \n2023 Frank Dunn Triathlon Overall Team Results copy \n2023 Frank Dunn Triathlon Team Category Results copy \nFrank Dunn 2023 Photos by Bob Holtsman \nhttps://photos.app.goo.gl/4HWuxozmi7barqi77 \nhttps://photos.app.goo.gl/8rsdgFeFQor5weve7 \nhttps://photos.app.goo.gl/MEUtqv4Y77zQBY7w6 \n2023 Frank Dunn Pre Race Info \nWorld Triathlon Long Distance Championships Qualification Expression of Interest Form \nhttps://ccnbikes.com/#!/events/frank-dunn-triathlon-triathlon-canada-2023-age-group-eoi \nUpdate: The Frank Dunn Triathlon for 2023 IS SOLD OUT! \nRegister Here :https://ccnbikes.com/#!/events/2023-42nd-annual-frank-dunn-triathlon \nFor more information visit the Frank Dunn Triathlon Website: https://frankdunntriathlon.ca/ \n 
URL:https://www.trisask.org/event/frank-dunn-triathlon-waskesiu/
CATEGORIES:All Level
END:VEVENT
END:VCALENDAR