BEGIN:VCALENDAR
VERSION:2.0
PRODID:-//Triathlon Saskatchewan - ECPv6.1.3//NONSGML v1.0//EN
CALSCALE:GREGORIAN
METHOD:PUBLISH
X-WR-CALNAME:Triathlon Saskatchewan
X-ORIGINAL-URL:https://www.trisask.org
X-WR-CALDESC:Events for Triathlon Saskatchewan
REFRESH-INTERVAL;VALUE=DURATION:PT1H
X-Robots-Tag:noindex
X-PUBLISHED-TTL:PT1H
BEGIN:VTIMEZONE
TZID:America/Regina
BEGIN:STANDARD
TZOFFSETFROM:-0600
TZOFFSETTO:-0600
TZNAME:CST
DTSTART:20230101T000000
END:STANDARD
END:VTIMEZONE
BEGIN:VEVENT
DTSTART;TZID=America/Regina:20230618T080000
DTEND;TZID=America/Regina:20230618T170000
DTSTAMP:20260422T104832
CREATED:20230221T214158Z
LAST-MODIFIED:20230223T015311Z
UID:8637-1687075200-1687107600@www.trisask.org
SUMMARY:RMC Sprint Distance Try a Triathlon
DESCRIPTION:
URL:https://www.trisask.org/event/rmc-spring-triathlon/
CATEGORIES:All Level
END:VEVENT
END:VCALENDAR