BEGIN:VCALENDAR
VERSION:2.0
PRODID:-//Triathlon Saskatchewan - ECPv6.1.3//NONSGML v1.0//EN
CALSCALE:GREGORIAN
METHOD:PUBLISH
X-WR-CALNAME:Triathlon Saskatchewan
X-ORIGINAL-URL:https://www.trisask.org
X-WR-CALDESC:Events for Triathlon Saskatchewan
REFRESH-INTERVAL;VALUE=DURATION:PT1H
X-Robots-Tag:noindex
X-PUBLISHED-TTL:PT1H
BEGIN:VTIMEZONE
TZID:America/Regina
BEGIN:STANDARD
TZOFFSETFROM:-0600
TZOFFSETTO:-0600
TZNAME:CST
DTSTART:20230101T000000
END:STANDARD
END:VTIMEZONE
BEGIN:VEVENT
DTSTART;TZID=America/Regina:20230610T080000
DTEND;TZID=America/Regina:20230611T170000
DTSTAMP:20260422T104842
CREATED:20230213T153234Z
LAST-MODIFIED:20230213T153234Z
UID:8566-1686384000-1686502800@www.trisask.org
SUMMARY:Open water and Cycling Camp
DESCRIPTION:
URL:https://www.trisask.org/event/open-water-and-cycling-camp/
LOCATION:Saskatoon\, Saskatchewan\, Canada
CATEGORIES:All Level
END:VEVENT
END:VCALENDAR