BEGIN:VCALENDAR
VERSION:2.0
PRODID:-//Triathlon Saskatchewan - ECPv6.1.3//NONSGML v1.0//EN
CALSCALE:GREGORIAN
METHOD:PUBLISH
X-ORIGINAL-URL:https://www.trisask.org
X-WR-CALDESC:Events for Triathlon Saskatchewan
REFRESH-INTERVAL;VALUE=DURATION:PT1H
X-Robots-Tag:noindex
X-PUBLISHED-TTL:PT1H
BEGIN:VTIMEZONE
TZID:America/Regina
BEGIN:STANDARD
TZOFFSETFROM:-0600
TZOFFSETTO:-0600
TZNAME:CST
DTSTART:20230101T000000
END:STANDARD
END:VTIMEZONE
BEGIN:VEVENT
DTSTART;TZID=America/Regina:20230313T080000
DTEND;TZID=America/Regina:20230314T170000
DTSTAMP:20260422T145614
CREATED:20230213T153412Z
LAST-MODIFIED:20230213T153412Z
UID:8560-1678694400-1678813200@www.trisask.org
SUMMARY:Provincial Swim and Run Time Trials
DESCRIPTION:
URL:https://www.trisask.org/event/provincial-swim-and-run-time-trials/
CATEGORIES:All Level
END:VEVENT
END:VCALENDAR