BEGIN:VCALENDAR
VERSION:2.0
PRODID:-//Triathlon Saskatchewan - ECPv6.1.3//NONSGML v1.0//EN
CALSCALE:GREGORIAN
METHOD:PUBLISH
X-WR-CALNAME:Triathlon Saskatchewan
X-ORIGINAL-URL:https://www.trisask.org
X-WR-CALDESC:Events for Triathlon Saskatchewan
REFRESH-INTERVAL;VALUE=DURATION:PT1H
X-Robots-Tag:noindex
X-PUBLISHED-TTL:PT1H
BEGIN:VTIMEZONE
TZID:America/Regina
BEGIN:STANDARD
TZOFFSETFROM:-0600
TZOFFSETTO:-0600
TZNAME:CST
DTSTART:20260101T000000
END:STANDARD
END:VTIMEZONE
BEGIN:VEVENT
DTSTART;VALUE=DATE:20260329
DTEND;VALUE=DATE:20260621
DTSTAMP:20260423T013231
CREATED:20260225T172156Z
LAST-MODIFIED:20260225T172319Z
UID:13883-1774742400-1781999999@www.trisask.org
SUMMARY:Just Tri It Program (JTI)
DESCRIPTION:Program Duration: March 29 2026 – June 20 2026\n\n\n\nFun\, fitness\, and friendship!   \n\n‘Tri’ something new with a fun and positive group of women. Improve your physical and mental well-being in a social setting. Are you at least 18 years of age and want to achieve a new goal? We have the program for you!\n\nThe Just Tri-It (JTI) program is an encouraging and supportive group that wants to help you lead a fun\, healthy life. You do not need to be an athlete – you just need the courage to ‘Tri’ it!  Don’t know how to swim\, ride a bike or run? No worries – our amazing community of experienced volunteers will teach you. ALL shapes and abilities are welcome – just bring your positive JUST TRI-IT attitude.\n\nMeet new friends or convince your co-worker\, friend\, sister or mom to join with you. We expect high demand – register early!\n\nThis 12-week program in Saskatoon runs from March 29\, 2026 to June 20\, 2026 and includes:\n\nKickoff event Sunday\, March 29 at 10:00am sharp. Pick up your swag bag!\nWeekly speakers and clinics to keep everyone in the know!\nSpecial discounted shopping nights with snacks and beverages\nAutomatic entry to Bridge City Duathlon – Saturday May 9\nAutomatic entry to Just Tri-It Triathlon (at Living Sky) – Saturday June 20\n3 sessions per week\, one of each swimming\, biking\, and running\n\nBike / Strength sessions:   Mondays 6:30pm – 8:00pm\nRun / Speaker Sessions:  Wednesdays 6:30pm – 8:00pm\nSwim sessions: Thursdays 6:00pm – 9:00pm.\n\nYou pick your 45min timeslot at Kickoff\n\n\n\n\nFree\, optional sessions for yoga\nProgram value is well over $600\n\n\nRegistration fees for JUST TRI-IT 2026: \nJanuary pricing – $275\nFebruary pricing – $300\nMarch pricing – $325\n** plus taxes and fees\n\n+++ You will select your T-shirt size when you are registering for the JTI program in CCN.  Please register prior to February 28 in order to guarantee the size that you’d like.  These shirts are women’s cut and true to size.  Size chart available in CCN.\n\n+++ In the spring\, once we start the JTI program\, you will register for the Saskatoon Bridge City Duathlon and Living Sky Triathlon.  There are no additional costs to participate in these events as they are already included in your JTI registration fee.\n\n\nRequirements:\n\n2026 membership in STCI and STAC is required*\n\nWhen you are completing your registration for the JTI program\, you will also be directed to purchase STCI and STAC memberships.  This is a requirement and these are an additional cost.\n*If you are not a member of the Saskatoon Triathlon Club (“STCI”) you must purchase a $20 annual membership to participate. This local club is non-profit and works to provide training and races for all Saskatoon members. \n*If you are not a member of the Saskatchewan Triathlon Association (“STAC / TriSask”) you must purchase an annual membership to participate ($85 plus taxes). This annual fee includes Triathlon Canada membership ($20) and provides insurance that will cover you during the JTI training program and events\, as well as other sanctioned events in SK\, BC\, AB and MAN. You may also elect to purchase optional accident insurance to cover you and your bike 24/7 outside of the JTI program. \n\n\n\nInterested in volunteering with Saskatoon Triathlon Club? Email info@triathlonsaskatoon.org
URL:https://www.trisask.org/event/just-tri-it-program-jti/
END:VEVENT
BEGIN:VEVENT
DTSTART;VALUE=DATE:20260411
DTEND;VALUE=DATE:20260607
DTSTAMP:20260423T013231
CREATED:20260225T174839Z
LAST-MODIFIED:20260225T174839Z
UID:13910-1775865600-1780790399@www.trisask.org
SUMMARY:NextGen Youth Spring 8-Week Triathlon Training Program
DESCRIPTION:NextGen Youth Triathlon Club\nSpring 8-Week Training Program (Ages 6–15)\nApril 11 – June 6\, 2026 (No training on May 16th) \nThe NextGen Youth Triathlon Club Spring program is designed to help young athletes (ages 6–15) build confidence\, skills\, and fitness in swimming\, biking\, and running — all while having fun\, making friends\, and staying active. \n  \nGoal Race: Saskatoon Triathlon Kids Of Steel – June 13th\, 2026\n\nTraining Schedule (APRIL)\nAll training sessions take place at the YMCA on Saturdays \n\n8:30 AM – 9:30 AM → All Age Groups Swim\n9:30 AM – 10:45 AM:\n\nAges 6–10 → Gym for Bike/Run/Fundamental Games\nAges 11–15 → Studio for Indoor Spin on stationary bike (9:30–10:15 AM)\, then join the rest of the group in the gym until 10:30 AM\n\n\n\nTraining Schedule (MAY & JUNE)\nSaturday Swim at YMCA: 8:30AM – 9:30AM → All Age Group  \nThursday Bike/Run at Prairieland park / Meewasin Park: 4:30pm – 6:00pm → All Age Group  \n\nProgram Includes\n\n8 weeks of coached swim\, bike\, and run training\nNextGen Youth Triathlon Club T-shirt\n\n\nSpots Available\nOnly 8 spots per age group for the Full Program: \n\n8 spots → Ages 6–10\n8 spots → Ages 11–15\n\n\nRequirements\n\nMust provide their own:\n\nSwim goggles & swimsuit\nBike in working condition (no training wheels)\nBike helmet\nRunning shoes\nAny other gear your child needs\n\n\nMust be able to swim without a life jacket or swim aid\n\n\n\n\nFees\n\n$300* + Processing Fee — Full Program (Swim + Bike/Run)\n$150* + Processing Fee — Bike/Run Program Only\n$75* + Processing Fee — Bike/Run Program (April Only)\n$112.50* + Processing Fee — Bike/Run Program Only (May / June Only)\n\n*Athletes must also be: \n\nAthlete Member of NextGen Youth Triathlon Club 2025 – 2026 – $1\nMember of Triathlon Saskatchewan 2026\n\nYouth $ 15.00 + $6.00 Triathlon Canada Fee\nFamily $160.00 (two adults) + Tri Canada Fee only for each child as the Tri Sask annual fee for each youth and junior family member is waived.
URL:https://www.trisask.org/event/nextgen-youth-spring-8-week-triathlon-training-program/
END:VEVENT
END:VCALENDAR